BEGIN:VCALENDAR
VERSION:2.0
PRODID:-//ical.marudot.com//iCal Event Maker
CALSCALE:GREGORIAN
BEGIN:VTIMEZONE
TZID:Europe/Berlin
LAST-MODIFIED:20240422T053451Z
TZURL:https://www.tzurl.org/zoneinfo-outlook/Europe/Berlin
X-LIC-LOCATION:Europe/Berlin
BEGIN:DAYLIGHT
TZNAME:CEST
TZOFFSETFROM:+0100
TZOFFSETTO:+0200
DTSTART:19700329T020000
RRULE:FREQ=YEARLY;BYMONTH=3;BYDAY=-1SU
END:DAYLIGHT
BEGIN:STANDARD
TZNAME:CET
TZOFFSETFROM:+0200
TZOFFSETTO:+0100
DTSTART:19701025T030000
RRULE:FREQ=YEARLY;BYMONTH=10;BYDAY=-1SU
END:STANDARD
END:VTIMEZONE
BEGIN:VEVENT
DTSTAMP:20251015T095218Z
UID:1760521914180-85280@ical.marudot.com
DTSTART;TZID=Europe/Berlin:20251022T190000
DTEND;TZID=Europe/Berlin:20251022T210000
SUMMARY:«Zürich liest: Poetischer Diwan von LyrikTisch»
URL:https://www.zuerich-liest.ch/veranstaltung/poetischer-diwan-von-lyriktisch/20251022190000/
DESCRIPTION:Lyrik frisch vom Tisch\, die Sie überrascht\, fasziniert\, provoziert. Wie schreibt man Gedichte? Wie liest man eigentlich zeitgenössische Gedichte?\nDiesen und anderen Fragen gehen wir nach und lesen neue Gedichte\, die zum Teil am Lyriktisch besprochen wurden.\nMusik: Soë Oeschger am Hackbrett.
LOCATION:1002F (mille et deux feuilles) Buchhandlung\, Glasmalergasse 6\, 8004 Zürich
END:VEVENT
END:VCALENDAR