BEGIN:VCALENDAR
VERSION:2.0
PRODID:-//ical.marudot.com//iCal Event Maker
CALSCALE:GREGORIAN
BEGIN:VTIMEZONE
TZID:Europe/Berlin
LAST-MODIFIED:20250410T142247Z
TZURL:https://www.tzurl.org/zoneinfo-outlook/Europe/Berlin
X-LIC-LOCATION:Europe/Berlin
BEGIN:DAYLIGHT
TZNAME:CEST
TZOFFSETFROM:+0100
TZOFFSETTO:+0200
DTSTART:19700329T020000
RRULE:FREQ=YEARLY;BYMONTH=3;BYDAY=-1SU
END:DAYLIGHT
BEGIN:STANDARD
TZNAME:CET
TZOFFSETFROM:+0200
TZOFFSETTO:+0100
DTSTART:19701025T030000
RRULE:FREQ=YEARLY;BYMONTH=10;BYDAY=-1SU
END:STANDARD
END:VTIMEZONE
BEGIN:VEVENT
DTSTAMP:20260418T184450Z
UID:1776537870916-99046@ical.marudot.com
DTSTART;TZID=Europe/Berlin:20260516T130000
DTEND;TZID=Europe/Berlin:20260516T143000
SUMMARY:Solothurner Literaturtage «SKRIPTOR LYRIK»
URL:https://www.ruthloosli.ch/admin/page/edit/?id=1096&s=1&c=1
DESCRIPTION:Mit: Rudolf Bussmann\, Anne-Marie Kenessey\, Ruth Loosli\, Anna Papst\, Barbara Schibli\, Veronika Zorn\nM: Donat Blum
LOCATION:Studio Arici\, Theatergasse 18\, 4500 Solothurn
END:VEVENT
END:VCALENDAR