BEGIN:VCALENDAR
VERSION:2.0
PRODID:-//ical.marudot.com//iCal Event Maker
CALSCALE:GREGORIAN
BEGIN:VTIMEZONE
TZID:Europe/Berlin
LAST-MODIFIED:20250410T142247Z
TZURL:https://www.tzurl.org/zoneinfo-outlook/Europe/Berlin
X-LIC-LOCATION:Europe/Berlin
BEGIN:DAYLIGHT
TZNAME:CEST
TZOFFSETFROM:+0100
TZOFFSETTO:+0200
DTSTART:19700329T020000
RRULE:FREQ=YEARLY;BYMONTH=3;BYDAY=-1SU
END:DAYLIGHT
BEGIN:STANDARD
TZNAME:CET
TZOFFSETFROM:+0200
TZOFFSETTO:+0100
DTSTART:19701025T030000
RRULE:FREQ=YEARLY;BYMONTH=10;BYDAY=-1SU
END:STANDARD
END:VTIMEZONE
BEGIN:VEVENT
DTSTAMP:20251220T100807Z
UID:1766225266364-36422@ical.marudot.com
DTSTART;TZID=Europe/Berlin:20260129T190000
DTEND;TZID=Europe/Berlin:20260129T210000
SUMMARY:«POESIEDIWAN - LyrikTisch Zürich»
URL:https://www.photobastei.ch/site/activity-details?id=804
DESCRIPTION:Der LyrikTisch Zürich öffnet seinen sonst geschlossenen Arbeitsraum und lädt zur Lesung neuer Gedichte ein. Die Texte entstehen im Dialog\, im gemeinsamen Lesen\, Fragen und Nachdenken – jenseits von bloßer Zustimmung oder Ablehnung. Was hörbar wird\, ist Lyrik im Werden: aufmerksam\, vielstimmig\, präzise.\nMit: Walter Schüpbach\, Vera Schindler-Wunderlich\, Asiye Müjgan Güvenli\, Elisabeth Wandeler-Deck\, Claudia Sutter\, Ruth Loosli\, Marco Berg\, Jeannine Osborne\, Tiziana Locati\, Dragica Rajčić Holzner\, Pedro Meier\nModeration: Dragica Rajčić Holzner & Marco Berg
LOCATION:Bar Photobastei\, Sihlquai 125\, 8005 Zürich
END:VEVENT
END:VCALENDAR