BEGIN:VCALENDAR
VERSION:2.0
PRODID:-//ical.marudot.com//iCal Event Maker
CALSCALE:GREGORIAN
BEGIN:VTIMEZONE
TZID:Europe/Berlin
LAST-MODIFIED:20250410T142247Z
TZURL:https://www.tzurl.org/zoneinfo-outlook/Europe/Berlin
X-LIC-LOCATION:Europe/Berlin
BEGIN:DAYLIGHT
TZNAME:CEST
TZOFFSETFROM:+0100
TZOFFSETTO:+0200
DTSTART:19700329T020000
RRULE:FREQ=YEARLY;BYMONTH=3;BYDAY=-1SU
END:DAYLIGHT
BEGIN:STANDARD
TZNAME:CET
TZOFFSETFROM:+0200
TZOFFSETTO:+0100
DTSTART:19701025T030000
RRULE:FREQ=YEARLY;BYMONTH=10;BYDAY=-1SU
END:STANDARD
END:VTIMEZONE
BEGIN:VEVENT
DTSTAMP:20260418T182038Z
UID:1776536419816-28102@ical.marudot.com
DTSTART;TZID=Europe/Berlin:20260607T130000
DTEND;TZID=Europe/Berlin:20260607T150000
SUMMARY:«Wiesen/schaum/kraut\; Vergiss-mein-nicht!»
URL:https://www.galerieweiertal.ch/
DESCRIPTION:Seht und hört! Poesie in Worten von Ruth Loosli und überraschenden Klängen von Soë Oeschger - dem Hackbrett entlockt.
LOCATION:Kulturort Galerie Weiertal\, Rumstalstrasse 55\, 8408 Winterthur
END:VEVENT
END:VCALENDAR