BEGIN:VCALENDAR
VERSION:2.0
PRODID:-//ical.marudot.com//iCal Event Maker
CALSCALE:GREGORIAN
BEGIN:VTIMEZONE
TZID:Europe/Berlin
LAST-MODIFIED:20250410T142247Z
TZURL:https://www.tzurl.org/zoneinfo-outlook/Europe/Berlin
X-LIC-LOCATION:Europe/Berlin
BEGIN:DAYLIGHT
TZNAME:CEST
TZOFFSETFROM:+0100
TZOFFSETTO:+0200
DTSTART:19700329T020000
RRULE:FREQ=YEARLY;BYMONTH=3;BYDAY=-1SU
END:DAYLIGHT
BEGIN:STANDARD
TZNAME:CET
TZOFFSETFROM:+0200
TZOFFSETTO:+0100
DTSTART:19701025T030000
RRULE:FREQ=YEARLY;BYMONTH=10;BYDAY=-1SU
END:STANDARD
END:VTIMEZONE
BEGIN:VEVENT
DTSTAMP:20260130T133510Z
UID:1769780091307-96669@ical.marudot.com
DTSTART;TZID=Europe/Berlin:20260328T150000
DTEND;TZID=Europe/Berlin:20260328T180000
SUMMARY:«BiblioWeekend 2026 - Die Magie der Worte entdecken»
DESCRIPTION:Das BiblioWeekend ist eine Initiative des Schweizer Bibliotheksverbands Bibliosuisse. An diesem Wochenende zeigen Bibliotheken in der ganzen Schweiz ihre Vielseitigkeit.\nLyrik-Lesungen mit Ruth Loosli\, Nadia Guddelmoni\, Larissa Waibel\, René Peter\, Veronika Suter\, und Leandra Boebel.
LOCATION:Stadtbibliothek\, EG\, Obere Kirchgasse 6\, 8400 Winterthur
END:VEVENT
END:VCALENDAR